BEGIN:VCALENDAR
VERSION:2.0
PRODID:-// - ECPv6.15.20//NONSGML v1.0//EN
CALSCALE:GREGORIAN
METHOD:PUBLISH
X-ORIGINAL-URL:https://www.343labs.com
X-WR-CALDESC:Events for 
REFRESH-INTERVAL;VALUE=DURATION:PT1H
X-Robots-Tag:noindex
X-PUBLISHED-TTL:PT1H
BEGIN:VTIMEZONE
TZID:America/New_York
BEGIN:DAYLIGHT
TZOFFSETFROM:-0500
TZOFFSETTO:-0400
TZNAME:EDT
DTSTART:20230312T070000
END:DAYLIGHT
BEGIN:STANDARD
TZOFFSETFROM:-0400
TZOFFSETTO:-0500
TZNAME:EST
DTSTART:20231105T060000
END:STANDARD
BEGIN:DAYLIGHT
TZOFFSETFROM:-0500
TZOFFSETTO:-0400
TZNAME:EDT
DTSTART:20240310T070000
END:DAYLIGHT
BEGIN:STANDARD
TZOFFSETFROM:-0400
TZOFFSETTO:-0500
TZNAME:EST
DTSTART:20241103T060000
END:STANDARD
BEGIN:DAYLIGHT
TZOFFSETFROM:-0500
TZOFFSETTO:-0400
TZNAME:EDT
DTSTART:20250309T070000
END:DAYLIGHT
BEGIN:STANDARD
TZOFFSETFROM:-0400
TZOFFSETTO:-0500
TZNAME:EST
DTSTART:20251102T060000
END:STANDARD
BEGIN:DAYLIGHT
TZOFFSETFROM:-0500
TZOFFSETTO:-0400
TZNAME:EDT
DTSTART:20260308T070000
END:DAYLIGHT
BEGIN:STANDARD
TZOFFSETFROM:-0400
TZOFFSETTO:-0500
TZNAME:EST
DTSTART:20261101T060000
END:STANDARD
END:VTIMEZONE
BEGIN:VEVENT
DTSTART;TZID=America/New_York:20250821T220000
DTEND;TZID=America/New_York:20250822T030000
DTSTAMP:20260424T234559
CREATED:20250820T160014Z
LAST-MODIFIED:20250820T161535Z
UID:10000404-1755813600-1755831600@www.343labs.com
SUMMARY:Distort @ Rebecca's
DESCRIPTION:DISTORT X 343 Labs X Rebecca’s\n610 Bushwick Ave\, Brooklyn\, NY 11206\nFree Entry\nTHU 08.21.25 | 10-3 \nFeaturing performers from 343 Labs:\nDeo Guglielmi @deoguglielmi\nIgP @igp_706\nWooyeon @wooyeonuncensored\nAllan Ritual @allanritual
URL:https://www.343labs.com/events/distort-2/
LOCATION:Rebecca’s\, 610 Bushwick Ave\, Brooklyn\, NY\, 11206\, United States
CATEGORIES:NYC in-person
ATTACH;FMTTYPE=image/jpeg:https://www.343labs.com/wp-content/uploads/2025/08/0821-rebeccas.jpg
ORGANIZER;CN="343 LABS":MAILTO:hello@343labs.com
END:VEVENT
BEGIN:VEVENT
DTSTART;TZID=America/New_York:20250315T220000
DTEND;TZID=America/New_York:20250316T040000
DTSTAMP:20260424T234559
CREATED:20250311T130905Z
LAST-MODIFIED:20250311T130905Z
UID:10000375-1742076000-1742097600@www.343labs.com
SUMMARY:Distort @ Rebecca's
DESCRIPTION:Distort is a DJ and Artist Collective started by Allan Ritual and supported by 343 Labs. Distort hosts regular dance events with DJs and live sets at clubs in NYC and 343 Labs students are always represented in the lineups! \nThe March 15th event is free to attend and will take place at Rebecca’s in Bushwick beginning at 10pm. \nALLAN RITUAL @allanritual\nSOL SYSTEM @solsystemnyc\nDAVEY @davey_ofc\nALEX ISO @alexisomusic\nTSOTNE @tsotnetunes\nPAPA GIORGO @thepapagi0rgi0\nTIM DAUZ @timdauz
URL:https://www.343labs.com/events/distort-rebeccas/
LOCATION:Rebecca’s\, 610 Bushwick Ave\, Brooklyn\, NY\, 11206\, United States
CATEGORIES:NYC in-person
ATTACH;FMTTYPE=image/jpeg:https://www.343labs.com/wp-content/uploads/2025/03/distort-flyer-Rebeccas-15.03.25.jpeg
ORGANIZER;CN="343 LABS":MAILTO:hello@343labs.com
END:VEVENT
BEGIN:VEVENT
DTSTART;TZID=America/New_York:20250213T220000
DTEND;TZID=America/New_York:20250214T040000
DTSTAMP:20260424T234559
CREATED:20250203T102140Z
LAST-MODIFIED:20250204T115320Z
UID:10000366-1739484000-1739505600@www.343labs.com
SUMMARY:Distort @ Rebecca's
DESCRIPTION:Distort is a DJ and Artist Collective started by Allan Ritual and supported by 343 Labs. Distort hosts regular dance events with DJs and live sets at clubs in NYC and 343 Labs students are always represented in the lineups! \nThe February 13 event is free to attend and will take place at Rebecca’s in Bushwick beginning at 10pm. \nALLAN RITUAL https://www.instagram.com/allanritual/\nPAPA GIORIO https://www.instagram.com/thepapagi0rgi0/\nREFLECTO https://www.instagram.com/davidoramas/\nTIM DAUZ https://www.instagram.com/timdauz/\nGEBRIDO https://www.instagram.com/gebrido/
URL:https://www.343labs.com/events/distort-rebeccas-feb13/
LOCATION:Rebecca’s\, 610 Bushwick Ave\, Brooklyn\, NY\, 11206\, United States
CATEGORIES:NYC in-person
ATTACH;FMTTYPE=image/jpeg:https://www.343labs.com/wp-content/uploads/2025/02/distort-flyer-21325.jpeg
ORGANIZER;CN="343 LABS":MAILTO:hello@343labs.com
END:VEVENT
BEGIN:VEVENT
DTSTART;TZID=America/New_York:20240328T220000
DTEND;TZID=America/New_York:20240328T233000
DTSTAMP:20260424T234559
CREATED:20240325T235222Z
LAST-MODIFIED:20240325T235326Z
UID:10000314-1711663200-1711668600@www.343labs.com
SUMMARY:Free 343 LABS + DISTORT party in Bushwick
DESCRIPTION:Collaborating on a night filled with talented DJs and dance music\, 343labs and distort.nyc are giving upcoming artists a chance to share their talent in the heart of NYC.\nReach out to distort.nyc if you want the opportunity to perform at one of their future events.\n\n\n\n \n 
URL:https://www.343labs.com/events/nyc-special-event-001/
LOCATION:Rebecca’s\, 610 Bushwick Ave\, Brooklyn\, NY\, 11206\, United States
CATEGORIES:NYC in-person
ATTACH;FMTTYPE=image/jpeg:https://www.343labs.com/wp-content/uploads/2024/03/WhatsApp-Image-2024-03-25-at-17.18.42.jpeg
ORGANIZER;CN="343 LABS":MAILTO:hello@343labs.com
END:VEVENT
END:VCALENDAR